BEGIN:VCALENDAR
VERSION:2.0
PRODID:-//ChamberMaster//Event Calendar 2.0//EN
METHOD:PUBLISH
X-PUBLISHED-TTL:P3D
REFRESH-INTERVAL:P3D
CALSCALE:GREGORIAN
BEGIN:VEVENT
DTSTART:20230402T150000Z
DTEND:20230402T200000Z
X-MICROSOFT-CDO-ALLDAYEVENT:FALSE
SUMMARY:April Fools Regatta
DESCRIPTION:PHRF and One-Design Racing Rat Island Yacht Club Regatta. Information on RIYC Facebook page.https://www.facebook.com/groups/191210764982935
X-ALT-DESC;FMTTYPE=text/html:PHRF and One-Design Racing Rat Island Yacht Club Regatta. Information on RIYC Facebook page.https://www.facebook.com/groups/191210764982935
LOCATION:Skippers Meeting at the Bass Sculpture City Dock
UID:e.566.4864
SEQUENCE:3
DTSTAMP:20260424T061414Z
URL:https://members.putnamcountychamber.com/events/details/april-fools-regatta-4864
END:VEVENT

END:VCALENDAR
