BEGIN:VCALENDAR
VERSION:2.0
PRODID:-//ChamberMaster//Event Calendar 2.0//EN
METHOD:PUBLISH
X-PUBLISHED-TTL:P3D
REFRESH-INTERVAL:P3D
CALSCALE:GREGORIAN
BEGIN:VEVENT
DTSTART:20250215T013000Z
DTEND:20250215T023000Z
X-MICROSOFT-CDO-ALLDAYEVENT:FALSE
SUMMARY:The Malpass Brothers LIVE
DESCRIPTION:The Malpass Brothers LIVE at the Palatka Bluegrass Festival. Come listening to the wonderful joys of traditional country music.
X-ALT-DESC;FMTTYPE=text/html:The Malpass Brothers LIVE at the Palatka Bluegrass Festival. Come listening to the wonderful joys of traditional country music.
LOCATION:3080 Boys Ranch Road Palatka\, Florida 32177
UID:e.566.5178
SEQUENCE:3
DTSTAMP:20260423T071710Z
URL:https://members.putnamcountychamber.com/events/details/the-malpass-brothers-live-5178
END:VEVENT

END:VCALENDAR
